BEGIN:VCALENDAR
VERSION:2.0
PRODID:ShowClix//ShowClix//EN
BEGIN:VTIMEZONE
TZID:Australia/Victoria
BEGIN:DAYLIGHT
DTSTART:20211002T160000
TZOFFSETFROM:+1000
TZOFFSETTO:+1100
TZNAME:AEDT
END:DAYLIGHT
BEGIN:STANDARD
DTSTART:20220402T160000
TZOFFSETFROM:+1100
TZOFFSETTO:+1000
TZNAME:AEST
END:STANDARD
END:VTIMEZONE
BEGIN:VEVENT
DTSTART;TZID=Australia/Victoria:20210417T170000
DTEND;TZID=Australia/Victoria:20210417T230000
SUMMARY:WILDFIGHTER
DESCRIPTION:Show details available at https://tickets.geelongaustralia.com.au/event/wildfighterboxing
LOCATION:Geelong Arena
GEO:-38.122798;144.349915
END:VEVENT
END:VCALENDAR
