BEGIN:VCALENDAR
VERSION:2.0
PRODID:ShowClix//ShowClix//EN
BEGIN:VTIMEZONE
TZID:Australia/Victoria
BEGIN:STANDARD
DTSTART:20210403T160000
TZOFFSETFROM:+1100
TZOFFSETTO:+1000
TZNAME:AEST
END:STANDARD
BEGIN:DAYLIGHT
DTSTART:20211002T160000
TZOFFSETFROM:+1000
TZOFFSETTO:+1100
TZNAME:AEDT
END:DAYLIGHT
END:VTIMEZONE
BEGIN:VEVENT
DTSTART;TZID=Australia/Victoria:20210313T200000
DTEND;TZID=Australia/Victoria:20210313T220000
SUMMARY:Nicki Gillis sings Carole King&rsquo;s Tapestry *SOLD OUT*
DESCRIPTION:Show details available at https://tickets.geelongaustralia.com.au/event/carole-king-taspestry-concert
LOCATION:POTATO SHED (COVID Safe Theatre)
GEO:-38.190523;144.555295
END:VEVENT
END:VCALENDAR
