BEGIN:VCALENDAR
VERSION:2.0
PRODID:ShowClix//ShowClix//EN
BEGIN:VTIMEZONE
TZID:Australia/Victoria
BEGIN:DAYLIGHT
DTSTART:20261003T160000
TZOFFSETFROM:+1000
TZOFFSETTO:+1100
TZNAME:AEDT
END:DAYLIGHT
BEGIN:STANDARD
DTSTART:20270403T160000
TZOFFSETFROM:+1100
TZOFFSETTO:+1000
TZNAME:AEST
END:STANDARD
END:VTIMEZONE
BEGIN:VEVENT
DTSTART;TZID=Australia/Victoria:20260430T103000
DTEND;TZID=Australia/Victoria:20260430T123000
SUMMARY:All Abilities Sports Family Services Expo
DESCRIPTION:Show details available at https://tickets.geelongaustralia.com.au/event/allabilitiessportsfamilyservicesexpo
LOCATION:St Albans Reserve
GEO:-38.176903;144.381566
END:VEVENT
END:VCALENDAR
