BEGIN:VCALENDAR
VERSION:2.0
PRODID:ShowClix//ShowClix//EN
BEGIN:VTIMEZONE
TZID:Australia/Melbourne
BEGIN:DAYLIGHT
DTSTART:20261003T160000
TZOFFSETFROM:+1000
TZOFFSETTO:+1100
TZNAME:AEDT
END:DAYLIGHT
BEGIN:STANDARD
DTSTART:20270403T160000
TZOFFSETFROM:+1100
TZOFFSETTO:+1000
TZNAME:AEST
END:STANDARD
END:VTIMEZONE
BEGIN:VEVENT
DTSTART;TZID=Australia/Melbourne:20260728T110000
DTEND;TZID=Australia/Melbourne:20260728T143000
SUMMARY:Business Support Drop-ins (Ocean Grove Library)
DESCRIPTION:Show details available at https://tickets.geelongaustralia.com.au/event/-business-support-drop-ins-ocean-grove-library-
LOCATION:Ocean Grove Library
GEO:-38.266231;144.522206
END:VEVENT
END:VCALENDAR
