BEGIN:VCALENDAR
VERSION:2.0
PRODID:ShowClix//ShowClix//EN
BEGIN:VTIMEZONE
TZID:Australia/Melbourne
BEGIN:DAYLIGHT
DTSTART:20261003T160000
TZOFFSETFROM:+1000
TZOFFSETTO:+1100
TZNAME:AEDT
END:DAYLIGHT
BEGIN:STANDARD
DTSTART:20270403T160000
TZOFFSETFROM:+1100
TZOFFSETTO:+1000
TZNAME:AEST
END:STANDARD
END:VTIMEZONE
BEGIN:VEVENT
DTSTART;TZID=Australia/Melbourne:20260617T100000
DTEND;TZID=Australia/Melbourne:20260617T145500
SUMMARY:Business Support Drop-ins (Grovedale)
DESCRIPTION:Show details available at https://tickets.geelongaustralia.com.au/event/-business-support-drop-ins-grovedale-
LOCATION:Grovedale Community Hub
GEO:-38.208182;144.333446
END:VEVENT
END:VCALENDAR
